BEGIN:VCALENDAR
VERSION:2.0
PRODID:-//Schule Lengnau BE - ECPv6.13.2.1//NONSGML v1.0//EN
CALSCALE:GREGORIAN
METHOD:PUBLISH
X-WR-CALNAME:Schule Lengnau BE
X-ORIGINAL-URL:https://www.schule-lengnau.ch
X-WR-CALDESC:Veranstaltungen für Schule Lengnau BE
REFRESH-INTERVAL;VALUE=DURATION:PT1H
X-Robots-Tag:noindex
X-PUBLISHED-TTL:PT1H
BEGIN:VTIMEZONE
TZID:Europe/Zurich
BEGIN:DAYLIGHT
TZOFFSETFROM:+0100
TZOFFSETTO:+0200
TZNAME:CEST
DTSTART:20260329T010000
END:DAYLIGHT
BEGIN:STANDARD
TZOFFSETFROM:+0200
TZOFFSETTO:+0100
TZNAME:CET
DTSTART:20261025T010000
END:STANDARD
END:VTIMEZONE
BEGIN:VEVENT
DTSTART;VALUE=DATE:20260502
DTEND;VALUE=DATE:20260504
DTSTAMP:20260424T124037
CREATED:20260423T070208Z
LAST-MODIFIED:20260423T070234Z
UID:10866-1777708800-1777795199@www.schule-lengnau.ch
SUMMARY:Hornussen - Nationaler Schnuppertag
DESCRIPTION:Am 02. Mai 2026 führen die Hornussergesellschaften Selzach und Grenchen gemeinsam einen Nationalen Schnuppertag Hornussen durch (siehe Anhang QR-Code).
URL:https://www.schule-lengnau.ch/anlass/hornussen-nationaler-schnuppertag/
CATEGORIES:Anlässe
ATTACH;FMTTYPE=image/jpeg:https://www.schule-lengnau.ch/wp-content/uploads/2026/04/Nationaler-Schnuppertag.jpg
END:VEVENT
BEGIN:VEVENT
DTSTART;TZID=Europe/Zurich:20260627T080000
DTEND;TZID=Europe/Zurich:20260628T170000
DTSTAMP:20260424T124037
CREATED:20260401T093759Z
LAST-MODIFIED:20260401T093855Z
UID:10795-1782547200-1782666000@www.schule-lengnau.ch
SUMMARY:SAVE THE DATE: Fussballschülerturnier Grenchen
DESCRIPTION:
URL:https://www.schule-lengnau.ch/anlass/save-the-date-fussballschuelerturnier-grenchen/
CATEGORIES:Anlässe
ATTACH;FMTTYPE=image/jpeg:https://www.schule-lengnau.ch/wp-content/uploads/2026/04/Fussballturnier_Grenchen.jpg
END:VEVENT
END:VCALENDAR